Package: cellmigRation Version: 1.15.0 Command: /Library/Frameworks/R.framework/Resources/bin/R CMD build --keep-empty-dirs --no-resave-data cellmigRation StartedAt: 2025-02-09 16:12:05 -0500 (Sun, 09 Feb 2025) EndedAt: 2025-02-09 16:14:12 -0500 (Sun, 09 Feb 2025) EllapsedTime: 126.5 seconds RetCode: 0 Status: OK PackageFile: cellmigRation_1.15.0.tar.gz PackageFileSize: 1.364 MiB