Package: cellmigRation Version: 1.15.0 Command: /Library/Frameworks/R.framework/Resources/bin/R CMD check --install=check:cellmigRation.install-out.txt --library=/Library/Frameworks/R.framework/Resources/library --no-vignettes --timings cellmigRation_1.15.0.tar.gz StartedAt: 2025-02-09 19:37:53 -0500 (Sun, 09 Feb 2025) EndedAt: 2025-02-09 19:40:17 -0500 (Sun, 09 Feb 2025) EllapsedTime: 144.3 seconds RetCode: 0 Status: OK CheckDir: cellmigRation.Rcheck Warnings: 0