Package: cellmigRation Version: 1.15.0 Command: /Library/Frameworks/R.framework/Resources/bin/R CMD INSTALL cellmigRation StartedAt: 2025-02-09 15:38:09 -0500 (Sun, 09 Feb 2025) EndedAt: 2025-02-09 15:38:31 -0500 (Sun, 09 Feb 2025) EllapsedTime: 22.1 seconds RetCode: 0 Status: OK