Package: cellscape Version: 1.31.0 Command: /Library/Frameworks/R.framework/Resources/bin/R CMD check --install=check:cellscape.install-out.txt --library=/Library/Frameworks/R.framework/Resources/library --no-vignettes --timings cellscape_1.31.0.tar.gz StartedAt: 2025-02-03 19:03:55 -0500 (Mon, 03 Feb 2025) EndedAt: 2025-02-03 19:04:09 -0500 (Mon, 03 Feb 2025) EllapsedTime: 14.1 seconds RetCode: 0 Status: OK CheckDir: cellscape.Rcheck Warnings: 0