Package: cellscape Version: 1.31.0 Command: /Library/Frameworks/R.framework/Resources/bin/R CMD INSTALL cellscape StartedAt: 2025-02-04 15:16:07 -0500 (Tue, 04 Feb 2025) EndedAt: 2025-02-04 15:16:08 -0500 (Tue, 04 Feb 2025) EllapsedTime: 1.4 seconds RetCode: 0 Status: OK