Package: cellscape Version: 1.31.0 Command: /home/biocbuild/R/R/bin/R CMD build --keep-empty-dirs --no-resave-data cellscape StartedAt: 2025-01-28 21:40:29 -0000 (Tue, 28 Jan 2025) EndedAt: 2025-01-28 21:40:40 -0000 (Tue, 28 Jan 2025) EllapsedTime: 11.0 seconds RetCode: 0 Status: OK PackageFile: cellscape_1.31.0.tar.gz PackageFileSize: 1.004 MiB