Package: cellscape Version: 1.31.0 Command: /home/biocbuild/bbs-3.21-bioc/R/bin/R CMD build --keep-empty-dirs --no-resave-data cellscape StartedAt: 2025-02-09 16:34:36 -0500 (Sun, 09 Feb 2025) EndedAt: 2025-02-09 16:34:45 -0500 (Sun, 09 Feb 2025) EllapsedTime: 9.0 seconds RetCode: 0 Status: OK PackageFile: cellscape_1.31.0.tar.gz PackageFileSize: 897.2 KiB