Package: cellscape Version: 1.31.0 Command: /home/biocbuild/bbs-3.21-bioc/R/bin/R CMD check --install=check:cellscape.install-out.txt --library=/home/biocbuild/bbs-3.21-bioc/R/site-library --timings cellscape_1.31.0.tar.gz StartedAt: 2025-02-03 20:55:46 -0500 (Mon, 03 Feb 2025) EndedAt: 2025-02-03 20:56:15 -0500 (Mon, 03 Feb 2025) EllapsedTime: 29.0 seconds RetCode: 0 Status: OK CheckDir: cellscape.Rcheck Warnings: 0