Package: cellscape Version: 1.31.0 Command: /home/biocbuild/bbs-3.21-bioc/R/bin/R CMD INSTALL cellscape StartedAt: 2025-02-09 15:09:38 -0500 (Sun, 09 Feb 2025) EndedAt: 2025-02-09 15:09:41 -0500 (Sun, 09 Feb 2025) EllapsedTime: 3.6 seconds RetCode: 0 Status: OK