Package: cellscape Version: 1.31.0 Command: chmod a+r cellscape -R && E:\biocbuild\bbs-3.21-bioc\R\bin\R.exe CMD build --keep-empty-dirs --no-resave-data cellscape StartedAt: 2025-02-09 17:44:25 -0500 (Sun, 09 Feb 2025) EndedAt: 2025-02-09 17:44:42 -0500 (Sun, 09 Feb 2025) EllapsedTime: 17.2 seconds RetCode: 0 Status: OK PackageFile: cellscape_1.31.0.tar.gz PackageFileSize: 898.4 KiB