Package: cellscape Version: 1.31.0 Command: E:\biocbuild\bbs-3.21-bioc\R\bin\R.exe CMD check --no-multiarch --install=check:cellscape.install-out.txt --library=E:\biocbuild\bbs-3.21-bioc\R\library --no-vignettes --timings cellscape_1.31.0.tar.gz StartedAt: 2025-02-09 23:30:12 -0500 (Sun, 09 Feb 2025) EndedAt: 2025-02-09 23:30:53 -0500 (Sun, 09 Feb 2025) EllapsedTime: 40.8 seconds RetCode: 0 Status: OK CheckDir: cellscape.Rcheck Warnings: 0