Package: cellxgenedp Version: 1.11.0 Command: /Library/Frameworks/R.framework/Resources/bin/R CMD build --keep-empty-dirs --no-resave-data cellxgenedp StartedAt: 2025-02-09 15:50:45 -0500 (Sun, 09 Feb 2025) EndedAt: 2025-02-09 15:51:17 -0500 (Sun, 09 Feb 2025) EllapsedTime: 32.3 seconds RetCode: 0 Status: OK PackageFile: cellxgenedp_1.11.0.tar.gz PackageFileSize: 471.7 KiB