Package: cellxgenedp Version: 1.11.0 Command: /home/biocbuild/R/R/bin/R CMD build --keep-empty-dirs --no-resave-data cellxgenedp StartedAt: 2025-01-28 21:41:01 -0000 (Tue, 28 Jan 2025) EndedAt: 2025-01-28 21:48:34 -0000 (Tue, 28 Jan 2025) EllapsedTime: 453.1 seconds RetCode: 0 Status: OK PackageFile: cellxgenedp_1.11.0.tar.gz PackageFileSize: 521.3 KiB