Package: cellxgenedp Version: 1.11.0 Command: /home/biocbuild/R/R/bin/R CMD check --install=check:cellxgenedp.install-out.txt --library=/home/biocbuild/R/R/site-library --no-vignettes --timings cellxgenedp_1.11.0.tar.gz StartedAt: 2025-01-28 09:03:04 -0000 (Tue, 28 Jan 2025) EndedAt: 2025-01-28 09:07:41 -0000 (Tue, 28 Jan 2025) EllapsedTime: 277.2 seconds RetCode: 0 Status: OK CheckDir: cellxgenedp.Rcheck Warnings: 0