Package: cellxgenedp Version: 1.11.0 Command: rm -rf cellxgenedp.buildbin-libdir && mkdir cellxgenedp.buildbin-libdir && /Users/biocbuild/BBS/utils/build-universal.sh cellxgenedp_1.11.0.tar.gz /Library/Frameworks/R.framework/Resources/bin/R cellxgenedp.buildbin-libdir StartedAt: 2025-02-10 00:45:49 -0500 (Mon, 10 Feb 2025) EndedAt: 2025-02-10 00:45:57 -0500 (Mon, 10 Feb 2025) EllapsedTime: 8.1 seconds RetCode: 0 Status: OK PackageFile: cellxgenedp_1.11.0.tgz PackageFileSize: 505 KiB