Package: cellxgenedp Version: 1.11.0 Command: /Library/Frameworks/R.framework/Resources/bin/R CMD build --keep-empty-dirs --no-resave-data cellxgenedp StartedAt: 2025-02-03 16:15:17 -0500 (Mon, 03 Feb 2025) EndedAt: 2025-02-03 16:16:40 -0500 (Mon, 03 Feb 2025) EllapsedTime: 82.2 seconds RetCode: 0 Status: OK PackageFile: cellxgenedp_1.11.0.tar.gz PackageFileSize: 471.6 KiB