Package: cellxgenedp Version: 1.11.0 Command: /Library/Frameworks/R.framework/Resources/bin/R CMD INSTALL cellxgenedp StartedAt: 2025-02-03 15:29:35 -0500 (Mon, 03 Feb 2025) EndedAt: 2025-02-03 15:29:42 -0500 (Mon, 03 Feb 2025) EllapsedTime: 6.9 seconds RetCode: 0 Status: OK