Package: cellxgenedp Version: 1.11.0 Command: /home/biocbuild/bbs-3.21-bioc/R/bin/R CMD build --keep-empty-dirs --no-resave-data cellxgenedp StartedAt: 2025-02-03 16:43:10 -0500 (Mon, 03 Feb 2025) EndedAt: 2025-02-03 16:44:32 -0500 (Mon, 03 Feb 2025) EllapsedTime: 82.0 seconds RetCode: 0 Status: OK PackageFile: cellxgenedp_1.11.0.tar.gz PackageFileSize: 471.8 KiB