Package: cellxgenedp Version: 1.11.0 Command: chmod a+r cellxgenedp -R && E:\biocbuild\bbs-3.21-bioc\R\bin\R.exe CMD build --keep-empty-dirs --no-resave-data cellxgenedp StartedAt: 2025-02-09 17:44:43 -0500 (Sun, 09 Feb 2025) EndedAt: 2025-02-09 17:46:54 -0500 (Sun, 09 Feb 2025) EllapsedTime: 130.9 seconds RetCode: 0 Status: OK PackageFile: cellxgenedp_1.11.0.tar.gz PackageFileSize: 472.2 KiB