Package: cellxgenedp Version: 1.11.0 Command: E:\biocbuild\bbs-3.21-bioc\R\bin\R.exe CMD check --no-multiarch --install=check:cellxgenedp.install-out.txt --library=E:\biocbuild\bbs-3.21-bioc\R\library --no-vignettes --timings cellxgenedp_1.11.0.tar.gz StartedAt: 2025-02-03 23:59:26 -0500 (Mon, 03 Feb 2025) EndedAt: 2025-02-04 00:02:32 -0500 (Tue, 04 Feb 2025) EllapsedTime: 185.4 seconds RetCode: 0 Status: OK CheckDir: cellxgenedp.Rcheck Warnings: 0