Package: censcyt Version: 1.15.0 Command: /Library/Frameworks/R.framework/Resources/bin/R CMD build --keep-empty-dirs --no-resave-data censcyt StartedAt: 2025-02-09 15:50:51 -0500 (Sun, 09 Feb 2025) EndedAt: 2025-02-09 15:51:19 -0500 (Sun, 09 Feb 2025) EllapsedTime: 28.3 seconds RetCode: 0 Status: OK PackageFile: censcyt_1.15.0.tar.gz PackageFileSize: 510.6 KiB