Package: censcyt Version: 1.15.0 Command: /Library/Frameworks/R.framework/Resources/bin/R CMD check --install=check:censcyt.install-out.txt --library=/Library/Frameworks/R.framework/Resources/library --no-vignettes --timings censcyt_1.15.0.tar.gz StartedAt: 2025-02-09 18:27:57 -0500 (Sun, 09 Feb 2025) EndedAt: 2025-02-09 18:29:41 -0500 (Sun, 09 Feb 2025) EllapsedTime: 104.4 seconds RetCode: 0 Status: OK CheckDir: censcyt.Rcheck Warnings: 0