Package: censcyt Version: 1.15.0 Command: /Library/Frameworks/R.framework/Resources/bin/R CMD build --keep-empty-dirs --no-resave-data censcyt StartedAt: 2025-02-12 16:10:48 -0500 (Wed, 12 Feb 2025) EndedAt: 2025-02-12 16:12:16 -0500 (Wed, 12 Feb 2025) EllapsedTime: 87.9 seconds RetCode: 0 Status: OK PackageFile: censcyt_1.15.0.tar.gz PackageFileSize: 510.4 KiB