Package: censcyt Version: 1.15.0 Command: /home/biocbuild/bbs-3.21-bioc/R/bin/R CMD build --keep-empty-dirs --no-resave-data censcyt StartedAt: 2025-02-09 16:35:00 -0500 (Sun, 09 Feb 2025) EndedAt: 2025-02-09 16:36:21 -0500 (Sun, 09 Feb 2025) EllapsedTime: 81.0 seconds RetCode: 0 Status: OK PackageFile: censcyt_1.15.0.tar.gz PackageFileSize: 521.8 KiB