Package: censcyt Version: 1.15.0 Command: /home/biocbuild/bbs-3.21-bioc/R/bin/R CMD INSTALL censcyt StartedAt: 2025-02-09 15:22:12 -0500 (Sun, 09 Feb 2025) EndedAt: 2025-02-09 15:22:45 -0500 (Sun, 09 Feb 2025) EllapsedTime: 32.9 seconds RetCode: 0 Status: OK