Package: censcyt Version: 1.15.0 Command: rm -rf censcyt.buildbin-libdir && mkdir censcyt.buildbin-libdir && E:\biocbuild\bbs-3.21-bioc\R\bin\R.exe CMD INSTALL --build --library=censcyt.buildbin-libdir censcyt_1.15.0.tar.gz StartedAt: 2025-02-10 07:24:53 -0500 (Mon, 10 Feb 2025) EndedAt: 2025-02-10 07:25:36 -0500 (Mon, 10 Feb 2025) EllapsedTime: 43.0 seconds RetCode: 0 Status: OK PackageFile: censcyt_1.15.0.zip PackageFileSize: 453.6 KiB