Package: censcyt Version: 1.15.0 Command: E:\biocbuild\bbs-3.21-bioc\R\bin\R.exe CMD check --no-multiarch --install=check:censcyt.install-out.txt --library=E:\biocbuild\bbs-3.21-bioc\R\library --no-vignettes --timings censcyt_1.15.0.tar.gz StartedAt: 2025-02-09 23:30:54 -0500 (Sun, 09 Feb 2025) EndedAt: 2025-02-09 23:36:14 -0500 (Sun, 09 Feb 2025) EllapsedTime: 320.3 seconds RetCode: 0 Status: OK CheckDir: censcyt.Rcheck Warnings: 0