Package: censcyt Version: 1.15.0 Command: E:\biocbuild\bbs-3.21-bioc\R\bin\R.exe CMD INSTALL censcyt StartedAt: 2025-02-09 16:12:03 -0500 (Sun, 09 Feb 2025) EndedAt: 2025-02-09 16:12:41 -0500 (Sun, 09 Feb 2025) EllapsedTime: 38.6 seconds RetCode: 0 Status: OK