Package: cfDNAPro Version: 1.13.0 Command: rm -rf cfDNAPro.buildbin-libdir && mkdir cfDNAPro.buildbin-libdir && /Users/biocbuild/BBS/utils/build-universal.sh cfDNAPro_1.13.0.tar.gz /Library/Frameworks/R.framework/Resources/bin/R cfDNAPro.buildbin-libdir StartedAt: 2025-02-09 22:08:53 -0500 (Sun, 09 Feb 2025) EndedAt: 2025-02-09 22:09:08 -0500 (Sun, 09 Feb 2025) EllapsedTime: 14.3 seconds RetCode: 0 Status: OK PackageFile: cfDNAPro_1.13.0.tgz PackageFileSize: 1.42 MiB