Package: cfDNAPro Version: 1.13.0 Command: /Library/Frameworks/R.framework/Resources/bin/R CMD INSTALL cfDNAPro StartedAt: 2025-02-09 15:19:05 -0500 (Sun, 09 Feb 2025) EndedAt: 2025-02-09 15:19:18 -0500 (Sun, 09 Feb 2025) EllapsedTime: 12.9 seconds RetCode: 0 Status: OK