Package: cfDNAPro Version: 1.13.0 Command: /home/biocbuild/R/R/bin/R CMD build --keep-empty-dirs --no-resave-data cfDNAPro StartedAt: 2025-01-28 21:43:58 -0000 (Tue, 28 Jan 2025) EndedAt: 2025-01-28 21:45:20 -0000 (Tue, 28 Jan 2025) EllapsedTime: 82.0 seconds RetCode: 0 Status: OK PackageFile: cfDNAPro_1.13.0.tar.gz PackageFileSize: 994.8 KiB