Package: cfDNAPro Version: 1.13.0 Command: /home/biocbuild/R/R/bin/R CMD INSTALL cfDNAPro StartedAt: 2025-01-29 20:14:33 -0000 (Wed, 29 Jan 2025) EndedAt: 2025-01-29 20:15:17 -0000 (Wed, 29 Jan 2025) EllapsedTime: 44.1 seconds RetCode: 0 Status: OK