Package: cfDNAPro Version: 1.13.0 Command: chmod a+r cfDNAPro -R && E:\biocbuild\bbs-3.21-bioc\R\bin\R.exe CMD build --keep-empty-dirs --no-resave-data cfDNAPro StartedAt: 2025-02-09 17:46:41 -0500 (Sun, 09 Feb 2025) EndedAt: 2025-02-09 17:47:57 -0500 (Sun, 09 Feb 2025) EllapsedTime: 75.6 seconds RetCode: 0 Status: OK PackageFile: cfDNAPro_1.13.0.tar.gz PackageFileSize: 796 KiB