Package: cfDNAPro Version: 1.13.0 Command: E:\biocbuild\bbs-3.21-bioc\R\bin\R.exe CMD check --no-multiarch --install=check:cfDNAPro.install-out.txt --library=E:\biocbuild\bbs-3.21-bioc\R\library --no-vignettes --timings cfDNAPro_1.13.0.tar.gz StartedAt: 2025-02-09 23:32:37 -0500 (Sun, 09 Feb 2025) EndedAt: 2025-02-09 23:37:14 -0500 (Sun, 09 Feb 2025) EllapsedTime: 277.1 seconds RetCode: 0 Status: WARNINGS CheckDir: cfDNAPro.Rcheck Warnings: 1