Package: cfdnakit Version: 1.5.0 Command: rm -rf cfdnakit.buildbin-libdir && mkdir cfdnakit.buildbin-libdir && /Users/biocbuild/BBS/utils/build-universal.sh cfdnakit_1.5.0.tar.gz /Library/Frameworks/R.framework/Resources/bin/R cfdnakit.buildbin-libdir StartedAt: 2025-02-09 22:08:52 -0500 (Sun, 09 Feb 2025) EndedAt: 2025-02-09 22:08:58 -0500 (Sun, 09 Feb 2025) EllapsedTime: 6.1 seconds RetCode: 0 Status: OK PackageFile: cfdnakit_1.5.0.tgz PackageFileSize: 3.107 MiB