Package: cfdnakit Version: 1.5.0 Command: rm -rf cfdnakit.buildbin-libdir && mkdir cfdnakit.buildbin-libdir && /Users/biocbuild/BBS/utils/build-universal.sh cfdnakit_1.5.0.tar.gz /Library/Frameworks/R.framework/Resources/bin/R cfdnakit.buildbin-libdir StartedAt: 2025-02-05 00:32:29 -0500 (Wed, 05 Feb 2025) EndedAt: 2025-02-05 00:32:49 -0500 (Wed, 05 Feb 2025) EllapsedTime: 19.8 seconds RetCode: 0 Status: OK PackageFile: cfdnakit_1.5.0.tgz PackageFileSize: 3.105 MiB