Package: cfdnakit Version: 1.5.0 Command: /Library/Frameworks/R.framework/Resources/bin/R CMD check --install=check:cfdnakit.install-out.txt --library=/Library/Frameworks/R.framework/Resources/library --no-vignettes --timings cfdnakit_1.5.0.tar.gz StartedAt: 2025-02-09 19:40:46 -0500 (Sun, 09 Feb 2025) EndedAt: 2025-02-09 19:44:31 -0500 (Sun, 09 Feb 2025) EllapsedTime: 225.9 seconds RetCode: 0 Status: OK CheckDir: cfdnakit.Rcheck Warnings: 0