Package: cfdnakit Version: 1.5.0 Command: /Library/Frameworks/R.framework/Resources/bin/R CMD INSTALL cfdnakit StartedAt: 2025-02-04 15:18:15 -0500 (Tue, 04 Feb 2025) EndedAt: 2025-02-04 15:18:32 -0500 (Tue, 04 Feb 2025) EllapsedTime: 17.2 seconds RetCode: 0 Status: OK