Package: cfdnakit Version: 1.5.0 Command: /home/biocbuild/bbs-3.21-bioc/R/bin/R CMD build --keep-empty-dirs --no-resave-data cfdnakit StartedAt: 2025-02-09 16:36:20 -0500 (Sun, 09 Feb 2025) EndedAt: 2025-02-09 16:37:03 -0500 (Sun, 09 Feb 2025) EllapsedTime: 43.0 seconds RetCode: 0 Status: OK PackageFile: cfdnakit_1.5.0.tar.gz PackageFileSize: 3.085 MiB