Package: cfdnakit Version: 1.5.0 Command: /home/biocbuild/bbs-3.21-bioc/R/bin/R CMD check --install=check:cfdnakit.install-out.txt --library=/home/biocbuild/bbs-3.21-bioc/R/site-library --timings cfdnakit_1.5.0.tar.gz StartedAt: 2025-02-09 20:49:52 -0500 (Sun, 09 Feb 2025) EndedAt: 2025-02-09 20:53:34 -0500 (Sun, 09 Feb 2025) EllapsedTime: 222.4 seconds RetCode: 0 Status: OK CheckDir: cfdnakit.Rcheck Warnings: 0