Package: cghMCR Version: 1.65.0 Command: /Library/Frameworks/R.framework/Resources/bin/R CMD check --install=check:cghMCR.install-out.txt --library=/Library/Frameworks/R.framework/Resources/library --no-vignettes --timings cghMCR_1.65.0.tar.gz StartedAt: 2025-02-09 18:28:46 -0500 (Sun, 09 Feb 2025) EndedAt: 2025-02-09 18:29:40 -0500 (Sun, 09 Feb 2025) EllapsedTime: 53.7 seconds RetCode: 0 Status: WARNINGS CheckDir: cghMCR.Rcheck Warnings: 1