Package: cghMCR Version: 1.65.0 Command: /home/biocbuild/R/R/bin/R CMD build --keep-empty-dirs --no-resave-data cghMCR StartedAt: 2025-01-28 21:44:58 -0000 (Tue, 28 Jan 2025) EndedAt: 2025-01-28 21:46:21 -0000 (Tue, 28 Jan 2025) EllapsedTime: 83.0 seconds RetCode: 0 Status: OK PackageFile: cghMCR_1.65.0.tar.gz PackageFileSize: 36.1 MiB