Package: cghMCR Version: 1.65.0 Command: /Library/Frameworks/R.framework/Resources/bin/R CMD INSTALL cghMCR StartedAt: 2025-02-09 15:37:10 -0500 (Sun, 09 Feb 2025) EndedAt: 2025-02-09 15:37:37 -0500 (Sun, 09 Feb 2025) EllapsedTime: 27.6 seconds RetCode: 0 Status: OK