Package: cghMCR Version: 1.65.0 Command: /home/biocbuild/bbs-3.21-bioc/R/bin/R CMD build --keep-empty-dirs --no-resave-data cghMCR StartedAt: 2025-02-09 16:36:39 -0500 (Sun, 09 Feb 2025) EndedAt: 2025-02-09 16:37:45 -0500 (Sun, 09 Feb 2025) EllapsedTime: 66.1 seconds RetCode: 0 Status: OK PackageFile: cghMCR_1.65.0.tar.gz PackageFileSize: 36.1 MiB