Package: cghMCR Version: 1.65.0 Command: /home/biocbuild/bbs-3.21-bioc/R/bin/R CMD check --install=check:cghMCR.install-out.txt --library=/home/biocbuild/bbs-3.21-bioc/R/site-library --timings cghMCR_1.65.0.tar.gz StartedAt: 2025-02-09 20:50:51 -0500 (Sun, 09 Feb 2025) EndedAt: 2025-02-09 20:53:29 -0500 (Sun, 09 Feb 2025) EllapsedTime: 158.3 seconds RetCode: 0 Status: WARNINGS CheckDir: cghMCR.Rcheck Warnings: 1