Package: cghMCR Version: 1.65.0 Command: chmod a+r cghMCR -R && E:\biocbuild\bbs-3.21-bioc\R\bin\R.exe CMD build --keep-empty-dirs --no-resave-data cghMCR StartedAt: 2025-02-09 17:47:14 -0500 (Sun, 09 Feb 2025) EndedAt: 2025-02-09 17:48:44 -0500 (Sun, 09 Feb 2025) EllapsedTime: 90.0 seconds RetCode: 0 Status: OK PackageFile: cghMCR_1.65.0.tar.gz PackageFileSize: 36.01 MiB