Package: cghMCR Version: 1.65.0 Command: E:\biocbuild\bbs-3.21-bioc\R\bin\R.exe CMD check --no-multiarch --install=check:cghMCR.install-out.txt --library=E:\biocbuild\bbs-3.21-bioc\R\library --no-vignettes --timings cghMCR_1.65.0.tar.gz StartedAt: 2025-02-09 23:33:06 -0500 (Sun, 09 Feb 2025) EndedAt: 2025-02-09 23:35:41 -0500 (Sun, 09 Feb 2025) EllapsedTime: 154.6 seconds RetCode: 0 Status: WARNINGS CheckDir: cghMCR.Rcheck Warnings: 1