Package: cghMCR Version: 1.65.0 Command: E:\biocbuild\bbs-3.21-bioc\R\bin\R.exe CMD INSTALL cghMCR StartedAt: 2025-02-09 16:01:31 -0500 (Sun, 09 Feb 2025) EndedAt: 2025-02-09 16:02:19 -0500 (Sun, 09 Feb 2025) EllapsedTime: 48.6 seconds RetCode: 0 Status: OK