Package: chevreulPlot Version: 0.99.30 Command: /Library/Frameworks/R.framework/Resources/bin/R CMD build --keep-empty-dirs --no-resave-data chevreulPlot StartedAt: 2025-02-12 15:52:09 -0500 (Wed, 12 Feb 2025) EndedAt: 2025-02-12 15:52:10 -0500 (Wed, 12 Feb 2025) EllapsedTime: 1.0 seconds RetCode: 1 Status: ERROR PackageFile: None PackageFileSize: NA