Package: chevreulPlot Version: 0.99.30 Command: /Library/Frameworks/R.framework/Resources/bin/R CMD INSTALL chevreulPlot StartedAt: 2025-02-09 15:30:56 -0500 (Sun, 09 Feb 2025) EndedAt: 2025-02-09 15:30:56 -0500 (Sun, 09 Feb 2025) EllapsedTime: 0.1 seconds RetCode: 1 Status: ERROR